BEGIN:VCALENDAR
VERSION:2.0
PRODID:-// - ECPv6.15.13.1//NONSGML v1.0//EN
CALSCALE:GREGORIAN
METHOD:PUBLISH
X-ORIGINAL-URL:https://al-liwan.com
X-WR-CALDESC:Events for 
REFRESH-INTERVAL;VALUE=DURATION:PT1H
X-Robots-Tag:noindex
X-PUBLISHED-TTL:PT1H
BEGIN:VTIMEZONE
TZID:Asia/Dubai
BEGIN:STANDARD
TZOFFSETFROM:+0400
TZOFFSETTO:+0400
TZNAME:+04
DTSTART:20240101T000000
END:STANDARD
END:VTIMEZONE
BEGIN:VEVENT
DTSTART;TZID=Asia/Dubai:20251001T080000
DTEND;TZID=Asia/Dubai:20251001T170000
DTSTAMP:20260422T151743
CREATED:20250921T134059Z
LAST-MODIFIED:20250921T134101Z
UID:4337-1759305600-1759338000@al-liwan.com
SUMMARY:رِفاقة الأمل
DESCRIPTION:مبادرة مجتمعية إنسانية تهدف إلى تنظيم زيارات دورية إلى المرضى طويلي الإقامة في المستشفيات ومراكز الرعاية (خصوصًا كبار السن)، لتعزيز الدعم النفسي والاجتماعي لهم، وتخفيف شعور العزلة.
URL:https://al-liwan.com/event/%d8%b1%d9%90%d9%81%d8%a7%d9%82%d8%a9-%d8%a7%d9%84%d8%a3%d9%85%d9%84-2/
LOCATION:المستشفيات ومراكز الرعاية\, United Arab Emirates
CATEGORIES:المبادرات
ORGANIZER;CN="%D9%85%D8%A4%D8%B3%D8%B3%D8%A9 %D8%A7%D9%84%D9%84%D9%8A%D9%88%D8%A7%D9%86 %D9%84%D9%84%D8%AB%D9%82%D8%A7%D9%81%D8%A9 %D9%88%D8%A7%D9%84%D8%AA%D8%B1%D8%A7%D8%AB":MAILTO:info@al-liwan.com
END:VEVENT
BEGIN:VEVENT
DTSTART;TZID=Asia/Dubai:20251002T080000
DTEND;TZID=Asia/Dubai:20251002T170000
DTSTAMP:20260422T151743
CREATED:20250921T134256Z
LAST-MODIFIED:20250921T134258Z
UID:4339-1759392000-1759424400@al-liwan.com
SUMMARY:أطول لوحة جدارية فنية
DESCRIPTION:
URL:https://al-liwan.com/event/%d8%a3%d8%b7%d9%88%d9%84-%d9%84%d9%88%d8%ad%d8%a9-%d8%ac%d8%af%d8%a7%d8%b1%d9%8a%d8%a9-%d9%81%d9%86%d9%8a%d8%a9/
LOCATION:مؤسسة الليوان للثقافة والتراث\, United Arab Emirates
CATEGORIES:المبادرات
ORGANIZER;CN="%D9%85%D8%A4%D8%B3%D8%B3%D8%A9 %D8%A7%D9%84%D9%84%D9%8A%D9%88%D8%A7%D9%86 %D9%84%D9%84%D8%AB%D9%82%D8%A7%D9%81%D8%A9 %D9%88%D8%A7%D9%84%D8%AA%D8%B1%D8%A7%D8%AB":MAILTO:info@al-liwan.com
END:VEVENT
BEGIN:VEVENT
DTSTART;TZID=Asia/Dubai:20251004T080000
DTEND;TZID=Asia/Dubai:20251004T170000
DTSTAMP:20260422T151743
CREATED:20250921T134408Z
LAST-MODIFIED:20250925T102544Z
UID:4341-1759564800-1759597200@al-liwan.com
SUMMARY:سلسلة "مسيرة الوفاء: الشيخ طحنون بن محمد آل نهيان
DESCRIPTION:سلسلة جلسات حوارية تسلط الضوء على السيرة الوطنية للشيخ طحنون بن محمد آل نهيان، تستعرض محطات من حياته القيادية من خلال شهادات موثّقة ومجالس حيّة، تُقدَّم برؤية شبابية معاصرة تعزز الهوية والارتباط بالجذور.
URL:https://al-liwan.com/event/%d8%b3%d9%84%d8%b3%d9%84%d8%a9-%d9%85%d8%b3%d9%8a%d8%b1%d8%a9-%d8%a7%d9%84%d9%88%d9%81%d8%a7%d8%a1-%d8%a7%d9%84%d8%b4%d9%8a%d8%ae-%d8%b7%d8%ad%d9%86%d9%88%d9%86-%d8%a8%d9%86-%d9%85%d8%ad%d9%85/
CATEGORIES:المبادرات
ORGANIZER;CN="%D9%85%D8%A4%D8%B3%D8%B3%D8%A9 %D8%A7%D9%84%D9%84%D9%8A%D9%88%D8%A7%D9%86 %D9%84%D9%84%D8%AB%D9%82%D8%A7%D9%81%D8%A9 %D9%88%D8%A7%D9%84%D8%AA%D8%B1%D8%A7%D8%AB":MAILTO:info@al-liwan.com
END:VEVENT
BEGIN:VEVENT
DTSTART;TZID=Asia/Dubai:20251007T080000
DTEND;TZID=Asia/Dubai:20251007T170000
DTSTAMP:20260422T151743
CREATED:20250921T134512Z
LAST-MODIFIED:20250921T134541Z
UID:4343-1759824000-1759856400@al-liwan.com
SUMMARY:أثر ( أمثال الواقع المعزز - عبر الاولين في عالم اليوم )
DESCRIPTION:مبادرة ثقافية رقمية مبتكرة، تهدف إلى إعادة إحياء الأمثال الشعبية الإماراتية عبر تقديمها بأسلوب تفاعلي باستخدام تقنية الواقع المعزز (VR). يتولى شباب مبادرة “أثر” تقديم الأمثال بصوتهم وتمثيلها بمشاهد قصيرة، تُربط برمز QR يمكن للجمهور مسحه ومشاهدتها على الهاتف أو الأجهزة الذكية، ما يخلق تجربة تعليمية وترفيهية تعزز الهوية الوطنية وتربط الأجيال بتراثهم من خلال التكنولوجيا.
URL:https://al-liwan.com/event/%d8%a3%d8%ab%d8%b1-%d8%a3%d9%85%d8%ab%d8%a7%d9%84-%d8%a7%d9%84%d9%88%d8%a7%d9%82%d8%b9-%d8%a7%d9%84%d9%85%d8%b9%d8%b2%d8%b2-%d8%b9%d8%a8%d8%b1-%d8%a7%d9%84%d8%a7%d9%88%d9%84%d9%8a%d9%86-%d9%81-3/
LOCATION:مؤسسة الليوان للثقافة والتراث\, United Arab Emirates
CATEGORIES:المبادرات
ORGANIZER;CN="%D9%85%D8%A4%D8%B3%D8%B3%D8%A9 %D8%A7%D9%84%D9%84%D9%8A%D9%88%D8%A7%D9%86 %D9%84%D9%84%D8%AB%D9%82%D8%A7%D9%81%D8%A9 %D9%88%D8%A7%D9%84%D8%AA%D8%B1%D8%A7%D8%AB":MAILTO:info@al-liwan.com
END:VEVENT
BEGIN:VEVENT
DTSTART;TZID=Asia/Dubai:20251008T080000
DTEND;TZID=Asia/Dubai:20251008T170000
DTSTAMP:20260422T151743
CREATED:20250921T134655Z
LAST-MODIFIED:20250921T134657Z
UID:4345-1759910400-1759942800@al-liwan.com
SUMMARY:محاضرة توعوية في الذكاء الاصناعي
DESCRIPTION:
URL:https://al-liwan.com/event/%d9%85%d8%ad%d8%a7%d8%b6%d8%b1%d8%a9-%d8%aa%d9%88%d8%b9%d9%88%d9%8a%d8%a9-%d9%81%d9%8a-%d8%a7%d9%84%d8%b0%d9%83%d8%a7%d8%a1-%d8%a7%d9%84%d8%a7%d8%b5%d9%86%d8%a7%d8%b9%d9%8a-3/
LOCATION:مؤسسة الليوان للثقافة والتراث\, United Arab Emirates
CATEGORIES:جلسات الليوان
ORGANIZER;CN="%D9%85%D8%A4%D8%B3%D8%B3%D8%A9 %D8%A7%D9%84%D9%84%D9%8A%D9%88%D8%A7%D9%86 %D9%84%D9%84%D8%AB%D9%82%D8%A7%D9%81%D8%A9 %D9%88%D8%A7%D9%84%D8%AA%D8%B1%D8%A7%D8%AB":MAILTO:info@al-liwan.com
END:VEVENT
BEGIN:VEVENT
DTSTART;TZID=Asia/Dubai:20251011T080000
DTEND;TZID=Asia/Dubai:20251011T170000
DTSTAMP:20260422T151743
CREATED:20250921T134810Z
LAST-MODIFIED:20250921T134821Z
UID:4347-1760169600-1760202000@al-liwan.com
SUMMARY:طول لوحة جدارية فنية
DESCRIPTION:
URL:https://al-liwan.com/event/%d8%b7%d9%88%d9%84-%d9%84%d9%88%d8%ad%d8%a9-%d8%ac%d8%af%d8%a7%d8%b1%d9%8a%d8%a9-%d9%81%d9%86%d9%8a%d8%a9/
LOCATION:مؤسسة الليوان للثقافة والتراث\, United Arab Emirates
CATEGORIES:المبادرات
ORGANIZER;CN="%D9%85%D8%A4%D8%B3%D8%B3%D8%A9 %D8%A7%D9%84%D9%84%D9%8A%D9%88%D8%A7%D9%86 %D9%84%D9%84%D8%AB%D9%82%D8%A7%D9%81%D8%A9 %D9%88%D8%A7%D9%84%D8%AA%D8%B1%D8%A7%D8%AB":MAILTO:info@al-liwan.com
END:VEVENT
BEGIN:VEVENT
DTSTART;TZID=Asia/Dubai:20251011T080000
DTEND;TZID=Asia/Dubai:20251011T170000
DTSTAMP:20260422T151743
CREATED:20250921T135022Z
LAST-MODIFIED:20250925T102523Z
UID:4349-1760169600-1760202000@al-liwan.com
SUMMARY:سلسلة "مسيرة الوفاء: الشيخ طحنون بن محمد آل نهيان
DESCRIPTION:سلسلة جلسات حوارية تسلط الضوء على السيرة الوطنية للشيخ طحنون بن محمد آل نهيان، تستعرض محطات من حياته القيادية من خلال شهادات موثّقة ومجالس حيّة، تُقدَّم برؤية شبابية معاصرة تعزز الهوية والارتباط بالجذور.
URL:https://al-liwan.com/event/%d8%b3%d9%84%d8%b3%d9%84%d8%a9-%d9%85%d8%b3%d9%8a%d8%b1%d8%a9-%d8%a7%d9%84%d9%88%d9%81%d8%a7%d8%a1-%d8%a7%d9%84%d8%b4%d9%8a%d8%ae-%d8%b7%d8%ad%d9%86%d9%88%d9%86-%d8%a8%d9%86-%d9%85%d8%ad%d9%85-2/
LOCATION:مؤسسة الليوان للثقافة والتراث\, United Arab Emirates
CATEGORIES:المبادرات
ORGANIZER;CN="%D9%85%D8%A4%D8%B3%D8%B3%D8%A9 %D8%A7%D9%84%D9%84%D9%8A%D9%88%D8%A7%D9%86 %D9%84%D9%84%D8%AB%D9%82%D8%A7%D9%81%D8%A9 %D9%88%D8%A7%D9%84%D8%AA%D8%B1%D8%A7%D8%AB":MAILTO:info@al-liwan.com
END:VEVENT
BEGIN:VEVENT
DTSTART;TZID=Asia/Dubai:20251021T080000
DTEND;TZID=Asia/Dubai:20251021T170000
DTSTAMP:20260422T151743
CREATED:20250921T135414Z
LAST-MODIFIED:20250921T135415Z
UID:4351-1761033600-1761066000@al-liwan.com
SUMMARY:أثر ( أمثال الواقع المعزز – عبر الاولين في عالم اليوم )
DESCRIPTION:مبادرة ثقافية رقمية مبتكرة، تهدف إلى إعادة إحياء الأمثال الشعبية الإماراتية عبر تقديمها بأسلوب تفاعلي باستخدام تقنية الواقع المعزز (VR). يتولى شباب مبادرة “أثر” تقديم الأمثال بصوتهم وتمثيلها بمشاهد قصيرة، تُربط برمز QR يمكن للجمهور مسحه ومشاهدتها على الهاتف أو الأجهزة الذكية، ما يخلق تجربة تعليمية وترفيهية تعزز الهوية الوطنية وتربط الأجيال بتراثهم من خلال التكنولوجيا.
URL:https://al-liwan.com/event/%d8%a3%d8%ab%d8%b1-%d8%a3%d9%85%d8%ab%d8%a7%d9%84-%d8%a7%d9%84%d9%88%d8%a7%d9%82%d8%b9-%d8%a7%d9%84%d9%85%d8%b9%d8%b2%d8%b2-%d8%b9%d8%a8%d8%b1-%d8%a7%d9%84%d8%a7%d9%88%d9%84%d9%8a%d9%86/
LOCATION:مؤسسة الليوان للثقافة والتراث\, United Arab Emirates
CATEGORIES:المبادرات
ORGANIZER;CN="%D9%85%D8%A4%D8%B3%D8%B3%D8%A9 %D8%A7%D9%84%D9%84%D9%8A%D9%88%D8%A7%D9%86 %D9%84%D9%84%D8%AB%D9%82%D8%A7%D9%81%D8%A9 %D9%88%D8%A7%D9%84%D8%AA%D8%B1%D8%A7%D8%AB":MAILTO:info@al-liwan.com
END:VEVENT
BEGIN:VEVENT
DTSTART;TZID=Asia/Dubai:20251022T080000
DTEND;TZID=Asia/Dubai:20251022T170000
DTSTAMP:20260422T151743
CREATED:20250921T135512Z
LAST-MODIFIED:20250921T152441Z
UID:4353-1761120000-1761152400@al-liwan.com
SUMMARY:محاضرة توعوية في الذكاء الاصناعي
DESCRIPTION:مبادرة مجتمعية تنظمها مؤسسة الليوان للثقافة والتراث تستهدف أولياء الأمور، من خلال محاضرة تفاعلية وورشة تطبيقية، تشرح فيها مفاهيم الذكاء الاصطناعي بلغة مبسطة، وتُعرض التحديات التي قد يواجهها الأبناء مثل: الإدمان الرقمي، التوجيه السلوكي، فقدان الخصوصية، والمقارنات النفسية. \n\n\n\nكما تُقدم أدوات عملية للأهل للوقاية والتحكم والمرافقة الرقمية الذكية
URL:https://al-liwan.com/event/%d9%85%d8%ad%d8%a7%d8%b6%d8%b1%d8%a9-%d8%aa%d9%88%d8%b9%d9%88%d9%8a%d8%a9-%d9%81%d9%8a-%d8%a7%d9%84%d8%b0%d9%83%d8%a7%d8%a1-%d8%a7%d9%84%d8%a7%d8%b5%d9%86%d8%a7%d8%b9%d9%8a-4/
LOCATION:مؤسسة الليوان للثقافة والتراث\, United Arab Emirates
CATEGORIES:جلسات الليوان
ORGANIZER;CN="%D9%85%D8%A4%D8%B3%D8%B3%D8%A9 %D8%A7%D9%84%D9%84%D9%8A%D9%88%D8%A7%D9%86 %D9%84%D9%84%D8%AB%D9%82%D8%A7%D9%81%D8%A9 %D9%88%D8%A7%D9%84%D8%AA%D8%B1%D8%A7%D8%AB":MAILTO:info@al-liwan.com
END:VEVENT
BEGIN:VEVENT
DTSTART;TZID=Asia/Dubai:20251025T080000
DTEND;TZID=Asia/Dubai:20251025T170000
DTSTAMP:20260422T151743
CREATED:20250921T135613Z
LAST-MODIFIED:20250925T102507Z
UID:4355-1761379200-1761411600@al-liwan.com
SUMMARY:سلسلة "مسيرة الوفاء: الشيخ طحنون بن محمد آل نهيان
DESCRIPTION:سلسلة جلسات حوارية تسلط الضوء على السيرة الوطنية للشيخ طحنون بن محمد آل نهيان، تستعرض محطات من حياته القيادية من خلال شهادات موثّقة ومجالس حيّة، تُقدَّم برؤية شبابية معاصرة تعزز الهوية والارتباط بالجذور.
URL:https://al-liwan.com/event/%d8%b3%d9%84%d8%b3%d9%84%d8%a9-%d9%85%d8%b3%d9%8a%d8%b1%d8%a9-%d8%a7%d9%84%d9%88%d9%81%d8%a7%d8%a1-%d8%a7%d9%84%d8%b4%d9%8a%d8%ae-%d8%b7%d8%ad%d9%86%d9%88%d9%86-%d8%a8%d9%86-%d9%85%d8%ad%d9%85-3/
LOCATION:مؤسسة الليوان للثقافة والتراث\, United Arab Emirates
CATEGORIES:المبادرات
ORGANIZER;CN="%D9%85%D8%A4%D8%B3%D8%B3%D8%A9 %D8%A7%D9%84%D9%84%D9%8A%D9%88%D8%A7%D9%86 %D9%84%D9%84%D8%AB%D9%82%D8%A7%D9%81%D8%A9 %D9%88%D8%A7%D9%84%D8%AA%D8%B1%D8%A7%D8%AB":MAILTO:info@al-liwan.com
END:VEVENT
END:VCALENDAR