BEGIN:VCALENDAR
VERSION:2.0
PRODID:-// - ECPv6.15.13.1//NONSGML v1.0//EN
CALSCALE:GREGORIAN
METHOD:PUBLISH
X-ORIGINAL-URL:https://al-liwan.com
X-WR-CALDESC:Events for 
REFRESH-INTERVAL;VALUE=DURATION:PT1H
X-Robots-Tag:noindex
X-PUBLISHED-TTL:PT1H
BEGIN:VTIMEZONE
TZID:Asia/Dubai
BEGIN:STANDARD
TZOFFSETFROM:+0400
TZOFFSETTO:+0400
TZNAME:+04
DTSTART:20240101T000000
END:STANDARD
END:VTIMEZONE
BEGIN:VEVENT
DTSTART;TZID=Asia/Dubai:20250902T080000
DTEND;TZID=Asia/Dubai:20250902T170000
DTSTAMP:20260423T015341
CREATED:20250826T042813Z
LAST-MODIFIED:20250826T042830Z
UID:815-1756800000-1756832400@al-liwan.com
SUMMARY:رِفاقة الأمل
DESCRIPTION:مبادرة مجتمعية إنسانية تهدف إلى تنظيم زيارات دورية إلى المرضى طويلي الإقامة في المستشفيات ومراكز الرعاية (خصوصًا كبار السن)، لتعزيز الدعم النفسي والاجتماعي لهم، وتخفيف شعور العزلة.
URL:https://al-liwan.com/event/%d8%b1%d9%90%d9%81%d8%a7%d9%82%d8%a9-%d8%a7%d9%84%d8%a3%d9%85%d9%84/
LOCATION:المستشفيات ومراكز الرعاية\, United Arab Emirates
CATEGORIES:المبادرات
ORGANIZER;CN="%D9%85%D8%A4%D8%B3%D8%B3%D8%A9 %D8%A7%D9%84%D9%84%D9%8A%D9%88%D8%A7%D9%86 %D9%84%D9%84%D8%AB%D9%82%D8%A7%D9%81%D8%A9 %D9%88%D8%A7%D9%84%D8%AA%D8%B1%D8%A7%D8%AB":MAILTO:info@al-liwan.com
END:VEVENT
END:VCALENDAR