BEGIN:VCALENDAR
VERSION:2.0
PRODID:-// - ECPv6.15.13.1//NONSGML v1.0//EN
CALSCALE:GREGORIAN
METHOD:PUBLISH
X-ORIGINAL-URL:https://al-liwan.com
X-WR-CALDESC:Events for 
REFRESH-INTERVAL;VALUE=DURATION:PT1H
X-Robots-Tag:noindex
X-PUBLISHED-TTL:PT1H
BEGIN:VTIMEZONE
TZID:Asia/Dubai
BEGIN:STANDARD
TZOFFSETFROM:+0400
TZOFFSETTO:+0400
TZNAME:+04
DTSTART:20240101T000000
END:STANDARD
END:VTIMEZONE
BEGIN:VEVENT
DTSTART;TZID=Asia/Dubai:20261001T080000
DTEND;TZID=Asia/Dubai:20261031T170000
DTSTAMP:20260423T025835
CREATED:20260223T080616Z
LAST-MODIFIED:20260223T080617Z
UID:5070-1790841600-1793466000@al-liwan.com
SUMMARY:الذكاء الاصطناعي وحماية الأسرة
DESCRIPTION:الذكاء الاصطناعي وحماية الأسرة – استخدام آمن ومسؤول
URL:https://al-liwan.com/event/%d8%a7%d9%84%d8%b0%d9%83%d8%a7%d8%a1-%d8%a7%d9%84%d8%a7%d8%b5%d8%b7%d9%86%d8%a7%d8%b9%d9%8a-%d9%88%d8%ad%d9%85%d8%a7%d9%8a%d8%a9-%d8%a7%d9%84%d8%a3%d8%b3%d8%b1%d8%a9/
END:VEVENT
BEGIN:VEVENT
DTSTART;TZID=Asia/Dubai:20260801T080000
DTEND;TZID=Asia/Dubai:20260831T170000
DTSTAMP:20260423T025835
CREATED:20260223T080846Z
LAST-MODIFIED:20260223T080847Z
UID:5072-1785571200-1788195600@al-liwan.com
SUMMARY:مؤتمر المرأة الإماراتية
DESCRIPTION:فعالية تهدف إلى تسليط الضوء على دور المرأة الإماراتية في مختلف المجالات، ومناقشة إنجازاتها، وتمكينها من تبادل الخبرات والأفكار لتعزيز مساهمتها في المجتمع
URL:https://al-liwan.com/event/%d9%85%d8%a4%d8%aa%d9%85%d8%b1-%d8%a7%d9%84%d9%85%d8%b1%d8%a3%d8%a9-%d8%a7%d9%84%d8%a5%d9%85%d8%a7%d8%b1%d8%a7%d8%aa%d9%8a%d8%a9/
END:VEVENT
BEGIN:VEVENT
DTSTART;TZID=Asia/Dubai:20260501T080000
DTEND;TZID=Asia/Dubai:20260501T170000
DTSTAMP:20260423T025835
CREATED:20260223T075752Z
LAST-MODIFIED:20260223T081748Z
UID:5068-1777622400-1777654800@al-liwan.com
SUMMARY:فعالية ختامية لمسير وفاء للشيخ طحنون بن محمد – رحمه الله
DESCRIPTION:
URL:https://al-liwan.com/event/5068/
END:VEVENT
BEGIN:VEVENT
DTSTART;TZID=Asia/Dubai:20260430T080000
DTEND;TZID=Asia/Dubai:20260430T170000
DTSTAMP:20260423T025835
CREATED:20260223T075315Z
LAST-MODIFIED:20260223T075316Z
UID:5066-1777536000-1777568400@al-liwan.com
SUMMARY:زيارة ميدانية لمعالم تبرز إنجازات الشيخ طحنون
DESCRIPTION:جولة ميدانية للتعرف على أبرز المعالم والمواقع التي تبرز إنجازات الشيخ طحنون بن محمد – رحمه الله – وتسليط الضوء على دوره وإسهاماته الوطنية
URL:https://al-liwan.com/event/%d8%b2%d9%8a%d8%a7%d8%b1%d8%a9-%d9%85%d9%8a%d8%af%d8%a7%d9%86%d9%8a%d8%a9-%d9%84%d9%85%d8%b9%d8%a7%d9%84%d9%85-%d8%aa%d8%a8%d8%b1%d8%b2-%d8%a5%d9%86%d8%ac%d8%a7%d8%b2%d8%a7%d8%aa-%d8%a7%d9%84%d8%b4/
END:VEVENT
BEGIN:VEVENT
DTSTART;TZID=Asia/Dubai:20260429T080000
DTEND;TZID=Asia/Dubai:20260429T170000
DTSTAMP:20260423T025835
CREATED:20260223T075113Z
LAST-MODIFIED:20260223T075114Z
UID:5064-1777449600-1777482000@al-liwan.com
SUMMARY:قلعة المويجعي - ذكريات ومواقف
DESCRIPTION:فعالية تسلط الضوء على المواقف والذكريات المميزة للشيخ طحنون بن محمد – رحمه الله – المرتبطة بقلعة المويجعي، وتروي قصصه وإنجازاته الوطنية بطريقة تعكس أثره وإرثه
URL:https://al-liwan.com/event/%d9%82%d9%84%d8%b9%d8%a9-%d8%a7%d9%84%d9%85%d9%88%d9%8a%d8%ac%d8%b9%d9%8a-%d8%b0%d9%83%d8%b1%d9%8a%d8%a7%d8%aa-%d9%88%d9%85%d9%88%d8%a7%d9%82%d9%81/
END:VEVENT
BEGIN:VEVENT
DTSTART;TZID=Asia/Dubai:20260428T080000
DTEND;TZID=Asia/Dubai:20260428T170000
DTSTAMP:20260423T025835
CREATED:20260223T074349Z
LAST-MODIFIED:20260223T074350Z
UID:5062-1777363200-1777395600@al-liwan.com
SUMMARY:مسير وفاء للشيخ طحنون بن محمد ( رحمه الله )
DESCRIPTION:لقاءات مع رفقاء الشيخ طحنون  \n\n\n\nفعالية تجمع رفقاء ومعارف الشيخ طحنون بن محمد – رحمه الله – لتسليط الضوء على مسيرته الوطنية وإسهاماته في خدمة الوطن، وتبادل الذكريات والقصص عن حياته المضيئة
URL:https://al-liwan.com/event/%d9%85%d8%b3%d9%8a%d8%b1-%d9%88%d9%81%d8%a7%d8%a1-%d9%84%d9%84%d8%b4%d9%8a%d8%ae-%d8%b7%d8%ad%d9%86%d9%88%d9%86-%d8%a8%d9%86-%d9%85%d8%ad%d9%85%d8%af-%d8%b1%d8%ad%d9%85%d9%87-%d8%a7%d9%84%d9%84/
END:VEVENT
BEGIN:VEVENT
DTSTART;TZID=Asia/Dubai:20260319T170000
DTEND;TZID=Asia/Dubai:20260319T190000
DTSTAMP:20260423T025835
CREATED:20260223T073407Z
LAST-MODIFIED:20260223T073409Z
UID:5060-1773939600-1773946800@al-liwan.com
SUMMARY:أطول مائدة إفطار(ذكرى وفاة الشيخ زايد)
DESCRIPTION:أطول مائدة إفطار (ذكرى وفاة الشيخ زايد) \n\n\n\nفعالية مجتمعية تُنظَّم إحياءً لذكرى وفاة المغفور له الشيخ زايد، رحمه الله، تجسيدًا لقيم العطاء والتراحم التي غرسها في المجتمع، من خلال تنظيم أطول مائدة إفطار تجمع أفراد المجتمع على المحبة والتآخي
URL:https://al-liwan.com/event/%d8%a3%d8%b7%d9%88%d9%84-%d9%85%d8%a7%d8%a6%d8%af%d8%a9-%d8%a5%d9%81%d8%b7%d8%a7%d8%b1%d8%b0%d9%83%d8%b1%d9%89-%d9%88%d9%81%d8%a7%d8%a9-%d8%a7%d9%84%d8%b4%d9%8a%d8%ae-%d8%b2%d8%a7%d9%8a%d8%af/
END:VEVENT
BEGIN:VEVENT
DTSTART;TZID=Asia/Dubai:20260312T203000
DTEND;TZID=Asia/Dubai:20260312T220000
DTSTAMP:20260423T025835
CREATED:20260223T073127Z
LAST-MODIFIED:20260223T073129Z
UID:5058-1773347400-1773352800@al-liwan.com
SUMMARY:المجلس الرابع : الامتنان سر الطمانينة الاسرية
DESCRIPTION:المجلس الرابع: الامتنان سر الطمأنينة الأسرية \n\n\n\nجلسة تسلط الضوء على قيمة الامتنان وأثره في تعزيز الاستقرار والسكينة داخل الأسرة، وبناء علاقات قائمة على التقدير والمحبة.
URL:https://al-liwan.com/event/%d8%a7%d9%84%d9%85%d8%ac%d9%84%d8%b3-%d8%a7%d9%84%d8%b1%d8%a7%d8%a8%d8%b9-%d8%a7%d9%84%d8%a7%d9%85%d8%aa%d9%86%d8%a7%d9%86-%d8%b3%d8%b1-%d8%a7%d9%84%d8%b7%d9%85%d8%a7%d9%86%d9%8a%d9%86%d8%a9-%d8%a7/
END:VEVENT
BEGIN:VEVENT
DTSTART;TZID=Asia/Dubai:20260305T203000
DTEND;TZID=Asia/Dubai:20260305T220000
DTSTAMP:20260423T025835
CREATED:20260223T072953Z
LAST-MODIFIED:20260223T072954Z
UID:5056-1772742600-1772748000@al-liwan.com
SUMMARY:المجلس الثالث : الحياة النفسية بمفهوم الأسرة
DESCRIPTION:المجلس الثالث: الحياة النفسية بمفهوم الأسرة \n\n\n\nجلسة تناقش أهمية الصحة النفسية داخل الأسرة، ودورها في تعزيز الاستقرار العاطفي، وتحقيق التوازن والتفاهم بين أفراد الأسرة.
URL:https://al-liwan.com/event/%d8%a7%d9%84%d9%85%d8%ac%d9%84%d8%b3-%d8%a7%d9%84%d8%ab%d8%a7%d9%84%d8%ab-%d8%a7%d9%84%d8%ad%d9%8a%d8%a7%d8%a9-%d8%a7%d9%84%d9%86%d9%81%d8%b3%d9%8a%d8%a9-%d8%a8%d9%85%d9%81%d9%87%d9%88%d9%85-%d8%a7/
END:VEVENT
BEGIN:VEVENT
DTSTART;TZID=Asia/Dubai:20260226T203000
DTEND;TZID=Asia/Dubai:20260226T220000
DTSTAMP:20260423T025835
CREATED:20260223T072706Z
LAST-MODIFIED:20260223T072708Z
UID:5054-1772137800-1772143200@al-liwan.com
SUMMARY:المجلس الثاني: التوازن الغذائي للأسرة خلال شهر رمضان
DESCRIPTION:المجلس الثاني: التوازن الغذائي للأسرة خلال شهر رمضان \n\n\n\nجلسة توعوية تسلط الضوء على أهمية التغذية المتوازنة خلال الشهر الفضيل، وتقدم إرشادات عملية لدعم صحة الأسرة وتعزيز العادات الغذائية السليمة في رمضان
URL:https://al-liwan.com/event/%d8%a7%d9%84%d9%85%d8%ac%d9%84%d8%b3-%d8%a7%d9%84%d8%ab%d8%a7%d9%86%d9%8a-%d8%a7%d9%84%d8%aa%d9%88%d8%a7%d8%b2%d9%86-%d8%a7%d9%84%d8%ba%d8%b0%d8%a7%d8%a6%d9%8a-%d9%84%d9%84%d8%a3%d8%b3%d8%b1%d8%a9/
END:VEVENT
BEGIN:VEVENT
DTSTART;TZID=Asia/Dubai:20260222T170000
DTEND;TZID=Asia/Dubai:20260304T190000
DTSTAMP:20260423T025835
CREATED:20260223T070217Z
LAST-MODIFIED:20260223T070629Z
UID:5048-1771779600-1772650800@al-liwan.com
SUMMARY:مبادرة كسر الصيام
DESCRIPTION:ضمن جهود مؤسسة الليوان للثقافة والتراث في تعزيز قيم التكافل والتراحم خلال شهر رمضان المبارك، تطلق المؤسسة مبادرة كسر الصيام، التي تهدف إلى توزيع وجبات الإفطار على الصائمين، ونشر روح العطاء والتضامن المجتمعي
URL:https://al-liwan.com/event/%d9%85%d8%a8%d8%a7%d8%af%d8%b1%d8%a9-%d9%83%d8%b3%d8%b1-%d8%a7%d9%84%d8%b5%d9%8a%d8%a7%d9%85/
ATTACH;FMTTYPE=image/png:https://al-liwan.com/wp-content/uploads/2026/02/last.png
END:VEVENT
BEGIN:VEVENT
DTSTART;TZID=Asia/Dubai:20260215T163000
DTEND;TZID=Asia/Dubai:20260215T173000
DTSTAMP:20260423T025835
CREATED:20260223T072114Z
LAST-MODIFIED:20260223T072232Z
UID:5051-1771173000-1771176600@al-liwan.com
SUMMARY:برنامج مجلس الليوان الرمضاني الاسري 2026 (المجلس الأول - دور الأسرة في ترسيخ مفهوم العبادة في رمضان)
DESCRIPTION:المجلس الأول: دور الأسرة في ترسيخ مفهوم العبادة في رمضان \n\n\n\nجلسة حوارية تناقش أهمية دور الأسرة في غرس قيم العبادة وتعزيز الروح الإيمانية خلال شهر رمضان المبارك، بما يسهم في بناء بيئة أسرية واعية ومتوازنة
URL:https://al-liwan.com/event/%d8%a8%d8%b1%d9%86%d8%a7%d9%85%d8%ac-%d9%85%d8%ac%d9%84%d8%b3-%d8%a7%d9%84%d9%84%d9%8a%d9%88%d8%a7%d9%86-%d8%a7%d9%84%d8%b1%d9%85%d8%b6%d8%a7%d9%86%d9%8a-%d8%a7%d9%84%d8%a7%d8%b3%d8%b1%d9%8a-2026/
END:VEVENT
BEGIN:VEVENT
DTSTART;TZID=Asia/Dubai:20251214T080000
DTEND;TZID=Asia/Dubai:20251218T170000
DTSTAMP:20260423T025835
CREATED:20250921T153229Z
LAST-MODIFIED:20250921T153230Z
UID:4421-1765699200-1766077200@al-liwan.com
SUMMARY:تنفيذ مخيم شتوي
DESCRIPTION:“صغارنا.. حكاية تراث” هي مبادرة تفاعلية مبتكرة تُقام ضمن المخيم الصيفي، تهدف إلى غرس قيم الانتماء الوطني والاعتزاز بالهوية الإماراتية لدى الأطفال، من خلال تجربة حيّة يتعرفون فيها على التراث الإماراتي عبر الحواس الخمس.
URL:https://al-liwan.com/event/%d8%aa%d9%86%d9%81%d9%8a%d8%b0-%d9%85%d8%ae%d9%8a%d9%85-%d8%b4%d8%aa%d9%88%d9%8a/
CATEGORIES:المبادرات
END:VEVENT
BEGIN:VEVENT
DTSTART;TZID=Asia/Dubai:20251209T080000
DTEND;TZID=Asia/Dubai:20251209T170000
DTSTAMP:20260423T025835
CREATED:20250921T153131Z
LAST-MODIFIED:20250921T153133Z
UID:4419-1765267200-1765299600@al-liwan.com
SUMMARY:رِفاقة الأمل
DESCRIPTION:مبادرة مجتمعية إنسانية تهدف إلى تنظيم زيارات دورية إلى المرضى طويلي الإقامة في المستشفيات ومراكز الرعاية (خصوصًا كبار السن)، لتعزيز الدعم النفسي والاجتماعي لهم، وتخفيف شعور العزلة.
URL:https://al-liwan.com/event/%d8%b1%d9%90%d9%81%d8%a7%d9%82%d8%a9-%d8%a7%d9%84%d8%a3%d9%85%d9%84-4/
CATEGORIES:المبادرات
ORGANIZER;CN="%D9%85%D8%A4%D8%B3%D8%B3%D8%A9 %D8%A7%D9%84%D9%84%D9%8A%D9%88%D8%A7%D9%86 %D9%84%D9%84%D8%AB%D9%82%D8%A7%D9%81%D8%A9 %D9%88%D8%A7%D9%84%D8%AA%D8%B1%D8%A7%D8%AB":MAILTO:info@al-liwan.com
END:VEVENT
BEGIN:VEVENT
DTSTART;TZID=Asia/Dubai:20251202T080000
DTEND;TZID=Asia/Dubai:20251202T170000
DTSTAMP:20260423T025835
CREATED:20250921T153021Z
LAST-MODIFIED:20250921T153022Z
UID:4417-1764662400-1764694800@al-liwan.com
SUMMARY:طول لوحة جدارية فنية: "طحنون في صورة وطن"
DESCRIPTION:م بمناسبة اليوم الوطني الـ54، تُطلق مؤسسة الليوان للثقافة والتراث مبادرة فنية مجتمعية بعنوان “”أطول لوحة جدارية فنية – طحنون في صورة وطن””، تمتد على مساحة 54 مترًا مربعًا بمشاركة 54 فنانًا إماراتيًا. \n\n\n\nتركز اللوحة على إبراز ملامح من سيرة المغفور له الشيخ طحنون بن محمد، أحد أعمدة الدولة وأحد رموز الحكمة والعطاء، في تناغم بصري يجمع الماضي والحاضر، ليشكل عملاً فنيًا تفاعليًا مفتوحًا للجمهور. “
URL:https://al-liwan.com/event/%d8%b7%d9%88%d9%84-%d9%84%d9%88%d8%ad%d8%a9-%d8%ac%d8%af%d8%a7%d8%b1%d9%8a%d8%a9-%d9%81%d9%86%d9%8a%d8%a9-%d8%b7%d8%ad%d9%86%d9%88%d9%86-%d9%81%d9%8a-%d8%b5%d9%88%d8%b1%d8%a9-%d9%88%d8%b7%d9%86-2/
CATEGORIES:المبادرات
END:VEVENT
BEGIN:VEVENT
DTSTART;TZID=Asia/Dubai:20251130T080000
DTEND;TZID=Asia/Dubai:20251130T170000
DTSTAMP:20260423T025835
CREATED:20250921T152841Z
LAST-MODIFIED:20250921T152859Z
UID:4414-1764489600-1764522000@al-liwan.com
SUMMARY:طول لوحة جدارية فنية: "طحنون في صورة وطن"
DESCRIPTION:م بمناسبة اليوم الوطني الـ54، تُطلق مؤسسة الليوان للثقافة والتراث مبادرة فنية مجتمعية بعنوان “”أطول لوحة جدارية فنية – طحنون في صورة وطن””، تمتد على مساحة 54 مترًا مربعًا بمشاركة 54 فنانًا إماراتيًا. \n\n\n\nتركز اللوحة على إبراز ملامح من سيرة المغفور له الشيخ طحنون بن محمد، أحد أعمدة الدولة وأحد رموز الحكمة والعطاء، في تناغم بصري يجمع الماضي والحاضر، ليشكل عملاً فنيًا تفاعليًا مفتوحًا للجمهور. “
URL:https://al-liwan.com/event/%d8%b7%d9%88%d9%84-%d9%84%d9%88%d8%ad%d8%a9-%d8%ac%d8%af%d8%a7%d8%b1%d9%8a%d8%a9-%d9%81%d9%86%d9%8a%d8%a9-%d8%b7%d8%ad%d9%86%d9%88%d9%86-%d9%81%d9%8a-%d8%b5%d9%88%d8%b1%d8%a9-%d9%88%d8%b7%d9%86/
CATEGORIES:المبادرات
ORGANIZER;CN="%D9%85%D8%A4%D8%B3%D8%B3%D8%A9 %D8%A7%D9%84%D9%84%D9%8A%D9%88%D8%A7%D9%86 %D9%84%D9%84%D8%AB%D9%82%D8%A7%D9%81%D8%A9 %D9%88%D8%A7%D9%84%D8%AA%D8%B1%D8%A7%D8%AB":MAILTO:info@al-liwan.com
END:VEVENT
BEGIN:VEVENT
DTSTART;TZID=Asia/Dubai:20251129T080000
DTEND;TZID=Asia/Dubai:20251129T170000
DTSTAMP:20260423T025835
CREATED:20250921T152729Z
LAST-MODIFIED:20250921T152730Z
UID:4412-1764403200-1764435600@al-liwan.com
SUMMARY:قلاع وقصص من حصوننا تُروى الحكاية
DESCRIPTION:مبادرة ثقافية ميدانية تطلقها مؤسسة الليوان، تأخذ المشاركين في رحلة إلى القلاع والحصون التراثية في إمارة أبوظبي، حيث تُعرض قصص الشيوخ المؤسسين والمواقف الوطنية التي انطلقت من هذه المواقع، عبر تجربة تجمع بين السرد الشفهي، العروض التراثية، والتوثيق المصوّر.
URL:https://al-liwan.com/event/%d9%82%d9%84%d8%a7%d8%b9-%d9%88%d9%82%d8%b5%d8%b5-%d9%85%d9%86-%d8%ad%d8%b5%d9%88%d9%86%d9%86%d8%a7-%d8%aa%d9%8f%d8%b1%d9%88%d9%89-%d8%a7%d9%84%d8%ad%d9%83%d8%a7%d9%8a%d8%a9-3/
CATEGORIES:جلسات الليوان
ORGANIZER;CN="%D9%85%D8%A4%D8%B3%D8%B3%D8%A9 %D8%A7%D9%84%D9%84%D9%8A%D9%88%D8%A7%D9%86 %D9%84%D9%84%D8%AB%D9%82%D8%A7%D9%81%D8%A9 %D9%88%D8%A7%D9%84%D8%AA%D8%B1%D8%A7%D8%AB":MAILTO:info@al-liwan.com
END:VEVENT
BEGIN:VEVENT
DTSTART;TZID=Asia/Dubai:20251126T080000
DTEND;TZID=Asia/Dubai:20251126T170000
DTSTAMP:20260423T025835
CREATED:20250921T152637Z
LAST-MODIFIED:20250921T152639Z
UID:4410-1764144000-1764176400@al-liwan.com
SUMMARY:محاضرة توعوية في الذكاء الاصناعي
DESCRIPTION:مبادرة مجتمعية تنظمها مؤسسة الليوان للثقافة والتراث تستهدف أولياء الأمور، من خلال محاضرة تفاعلية وورشة تطبيقية، تشرح فيها مفاهيم الذكاء الاصطناعي بلغة مبسطة، وتُعرض التحديات التي قد يواجهها الأبناء مثل: الإدمان الرقمي، التوجيه السلوكي، فقدان الخصوصية، والمقارنات النفسية. \n\n\n\nكما تُقدم أدوات عملية للأهل للوقاية والتحكم والمرافقة الرقمية الذكية.
URL:https://al-liwan.com/event/%d9%85%d8%ad%d8%a7%d8%b6%d8%b1%d8%a9-%d8%aa%d9%88%d8%b9%d9%88%d9%8a%d8%a9-%d9%81%d9%8a-%d8%a7%d9%84%d8%b0%d9%83%d8%a7%d8%a1-%d8%a7%d9%84%d8%a7%d8%b5%d9%86%d8%a7%d8%b9%d9%8a-6/
CATEGORIES:جلسات الليوان
ORGANIZER;CN="%D9%85%D8%A4%D8%B3%D8%B3%D8%A9 %D8%A7%D9%84%D9%84%D9%8A%D9%88%D8%A7%D9%86 %D9%84%D9%84%D8%AB%D9%82%D8%A7%D9%81%D8%A9 %D9%88%D8%A7%D9%84%D8%AA%D8%B1%D8%A7%D8%AB":MAILTO:info@al-liwan.com
END:VEVENT
BEGIN:VEVENT
DTSTART;TZID=Asia/Dubai:20251115T080000
DTEND;TZID=Asia/Dubai:20251115T170000
DTSTAMP:20260423T025835
CREATED:20250921T152145Z
LAST-MODIFIED:20250921T152302Z
UID:4407-1763193600-1763226000@al-liwan.com
SUMMARY:قلاع وقصص من حصوننا تُروى الحكاية
DESCRIPTION:مبادرة ثقافية ميدانية تطلقها مؤسسة الليوان، تأخذ المشاركين في رحلة إلى القلاع والحصون التراثية في إمارة أبوظبي، حيث تُعرض قصص الشيوخ المؤسسين والمواقف الوطنية التي انطلقت من هذه المواقع، عبر تجربة تجمع بين السرد الشفهي، العروض التراثية، والتوثيق المصوّر.
URL:https://al-liwan.com/event/%d9%82%d9%84%d8%a7%d8%b9-%d9%88%d9%82%d8%b5%d8%b5-%d9%85%d9%86-%d8%ad%d8%b5%d9%88%d9%86%d9%86%d8%a7-%d8%aa%d9%8f%d8%b1%d9%88%d9%89-%d8%a7%d9%84%d8%ad%d9%83%d8%a7%d9%8a%d8%a9-2/
LOCATION:مؤسسة الليوان للثقافة والتراث\, United Arab Emirates
CATEGORIES:جلسات الليوان
ORGANIZER;CN="%D9%85%D8%A4%D8%B3%D8%B3%D8%A9 %D8%A7%D9%84%D9%84%D9%8A%D9%88%D8%A7%D9%86 %D9%84%D9%84%D8%AB%D9%82%D8%A7%D9%81%D8%A9 %D9%88%D8%A7%D9%84%D8%AA%D8%B1%D8%A7%D8%AB":MAILTO:info@al-liwan.com
END:VEVENT
BEGIN:VEVENT
DTSTART;TZID=Asia/Dubai:20251112T080000
DTEND;TZID=Asia/Dubai:20251112T170000
DTSTAMP:20260423T025835
CREATED:20250921T152036Z
LAST-MODIFIED:20250921T152037Z
UID:4405-1762934400-1762966800@al-liwan.com
SUMMARY:محاضرة توعوية في الذكاء الاصناعي
DESCRIPTION:مبادرة مجتمعية تنظمها مؤسسة الليوان للثقافة والتراث تستهدف أولياء الأمور، من خلال محاضرة تفاعلية وورشة تطبيقية، تشرح فيها مفاهيم الذكاء الاصطناعي بلغة مبسطة، وتُعرض التحديات التي قد يواجهها الأبناء مثل: الإدمان الرقمي، التوجيه السلوكي، فقدان الخصوصية، والمقارنات النفسية. \n\n\n\nكما تُقدم أدوات عملية للأهل للوقاية والتحكم والمرافقة الرقمية الذكية.
URL:https://al-liwan.com/event/%d9%85%d8%ad%d8%a7%d8%b6%d8%b1%d8%a9-%d8%aa%d9%88%d8%b9%d9%88%d9%8a%d8%a9-%d9%81%d9%8a-%d8%a7%d9%84%d8%b0%d9%83%d8%a7%d8%a1-%d8%a7%d9%84%d8%a7%d8%b5%d9%86%d8%a7%d8%b9%d9%8a-5/
LOCATION:مؤسسة الليوان للثقافة والتراث\, United Arab Emirates
CATEGORIES:جلسات الليوان
ORGANIZER;CN="%D9%85%D8%A4%D8%B3%D8%B3%D8%A9 %D8%A7%D9%84%D9%84%D9%8A%D9%88%D8%A7%D9%86 %D9%84%D9%84%D8%AB%D9%82%D8%A7%D9%81%D8%A9 %D9%88%D8%A7%D9%84%D8%AA%D8%B1%D8%A7%D8%AB":MAILTO:info@al-liwan.com
END:VEVENT
BEGIN:VEVENT
DTSTART;TZID=Asia/Dubai:20251111T080000
DTEND;TZID=Asia/Dubai:20251111T170000
DTSTAMP:20260423T025835
CREATED:20250921T151923Z
LAST-MODIFIED:20250921T151925Z
UID:4403-1762848000-1762880400@al-liwan.com
SUMMARY:أطول لوحة جدارية فنية
DESCRIPTION:
URL:https://al-liwan.com/event/%d8%a3%d8%b7%d9%88%d9%84-%d9%84%d9%88%d8%ad%d8%a9-%d8%ac%d8%af%d8%a7%d8%b1%d9%8a%d8%a9-%d9%81%d9%86%d9%8a%d8%a9-2/
CATEGORIES:المبادرات
ORGANIZER;CN="%D9%85%D8%A4%D8%B3%D8%B3%D8%A9 %D8%A7%D9%84%D9%84%D9%8A%D9%88%D8%A7%D9%86 %D9%84%D9%84%D8%AB%D9%82%D8%A7%D9%81%D8%A9 %D9%88%D8%A7%D9%84%D8%AA%D8%B1%D8%A7%D8%AB":MAILTO:info@al-liwan.com
END:VEVENT
BEGIN:VEVENT
DTSTART;TZID=Asia/Dubai:20251106T080000
DTEND;TZID=Asia/Dubai:20251106T170000
DTSTAMP:20260423T025835
CREATED:20250921T151835Z
LAST-MODIFIED:20250921T151836Z
UID:4401-1762416000-1762448400@al-liwan.com
SUMMARY:جائزة الليوان
DESCRIPTION:مبادرة مجتمعية وطنية تطلقها مؤسسة الليوان للثقافة والتراث، تهدف إلى الاحتفاء بالأسرة الإماراتية التي تلعب دورًا محوريًا في تنشئة أجيال محبة للوطن، معتزة بالتراث، منفتحة على العصر، ومنسجمة مع رؤية الدولة في تعزيز الهوية الوطنية والقيم المجتمعية الأصيلة.
URL:https://al-liwan.com/event/%d8%ac%d8%a7%d8%a6%d8%b2%d8%a9-%d8%a7%d9%84%d9%84%d9%8a%d9%88%d8%a7%d9%86/
LOCATION:مؤسسة الليوان للثقافة والتراث\, United Arab Emirates
CATEGORIES:المبادرات
ORGANIZER;CN="%D9%85%D8%A4%D8%B3%D8%B3%D8%A9 %D8%A7%D9%84%D9%84%D9%8A%D9%88%D8%A7%D9%86 %D9%84%D9%84%D8%AB%D9%82%D8%A7%D9%81%D8%A9 %D9%88%D8%A7%D9%84%D8%AA%D8%B1%D8%A7%D8%AB":MAILTO:info@al-liwan.com
END:VEVENT
BEGIN:VEVENT
DTSTART;TZID=Asia/Dubai:20251104T080000
DTEND;TZID=Asia/Dubai:20251104T170000
DTSTAMP:20260423T025835
CREATED:20250921T151659Z
LAST-MODIFIED:20250921T151701Z
UID:4399-1762243200-1762275600@al-liwan.com
SUMMARY:رِفاقة الأمل
DESCRIPTION:مبادرة مجتمعية إنسانية تهدف إلى تنظيم زيارات دورية إلى المرضى طويلي الإقامة في المستشفيات ومراكز الرعاية (خصوصًا كبار السن)، لتعزيز الدعم النفسي والاجتماعي لهم، وتخفيف شعور العزلة.
URL:https://al-liwan.com/event/%d8%b1%d9%90%d9%81%d8%a7%d9%82%d8%a9-%d8%a7%d9%84%d8%a3%d9%85%d9%84-3/
CATEGORIES:المبادرات
ORGANIZER;CN="%D9%85%D8%A4%D8%B3%D8%B3%D8%A9 %D8%A7%D9%84%D9%84%D9%8A%D9%88%D8%A7%D9%86 %D9%84%D9%84%D8%AB%D9%82%D8%A7%D9%81%D8%A9 %D9%88%D8%A7%D9%84%D8%AA%D8%B1%D8%A7%D8%AB":MAILTO:info@al-liwan.com
END:VEVENT
BEGIN:VEVENT
DTSTART;TZID=Asia/Dubai:20251101T080000
DTEND;TZID=Asia/Dubai:20251101T170000
DTSTAMP:20260423T025835
CREATED:20250921T151544Z
LAST-MODIFIED:20250925T102442Z
UID:4397-1761984000-1762016400@al-liwan.com
SUMMARY:سلسلة "مسيرة الوفاء: الشيخ طحنون بن محمد آل نهيان
DESCRIPTION:سلسلة جلسات حوارية تسلط الضوء على السيرة الوطنية للشيخ طحنون بن محمد آل نهيان، تستعرض محطات من حياته القيادية من خلال شهادات موثّقة ومجالس حيّة، تُقدَّم برؤية شبابية معاصرة تعزز الهوية والارتباط بالجذور.
URL:https://al-liwan.com/event/%d8%b3%d9%84%d8%b3%d9%84%d8%a9-%d9%85%d8%b3%d9%8a%d8%b1%d8%a9-%d8%a7%d9%84%d9%88%d9%81%d8%a7%d8%a1-%d8%a7%d9%84%d8%b4%d9%8a%d8%ae-%d8%b7%d8%ad%d9%86%d9%88%d9%86-%d8%a8%d9%86-%d9%85%d8%ad%d9%85-4/
LOCATION:مؤسسة الليوان للثقافة والتراث\, United Arab Emirates
CATEGORIES:المبادرات
ORGANIZER;CN="%D9%85%D8%A4%D8%B3%D8%B3%D8%A9 %D8%A7%D9%84%D9%84%D9%8A%D9%88%D8%A7%D9%86 %D9%84%D9%84%D8%AB%D9%82%D8%A7%D9%81%D8%A9 %D9%88%D8%A7%D9%84%D8%AA%D8%B1%D8%A7%D8%AB":MAILTO:info@al-liwan.com
END:VEVENT
BEGIN:VEVENT
DTSTART;TZID=Asia/Dubai:20251101T080000
DTEND;TZID=Asia/Dubai:20251101T170000
DTSTAMP:20260423T025835
CREATED:20250921T140031Z
LAST-MODIFIED:20250921T140032Z
UID:4357-1761984000-1762016400@al-liwan.com
SUMMARY:قلاع وقصص من حصوننا تُروى الحكاية
DESCRIPTION:مبادرة ثقافية ميدانية تطلقها مؤسسة الليوان، تأخذ المشاركين في رحلة إلى القلاع والحصون التراثية في إمارة أبوظبي، حيث تُعرض قصص الشيوخ المؤسسين والمواقف الوطنية التي انطلقت من هذه المواقع، عبر تجربة تجمع بين السرد الشفهي، العروض التراثية، والتوثيق المصوّر.
URL:https://al-liwan.com/event/%d9%82%d9%84%d8%a7%d8%b9-%d9%88%d9%82%d8%b5%d8%b5-%d9%85%d9%86-%d8%ad%d8%b5%d9%88%d9%86%d9%86%d8%a7-%d8%aa%d9%8f%d8%b1%d9%88%d9%89-%d8%a7%d9%84%d8%ad%d9%83%d8%a7%d9%8a%d8%a9/
LOCATION:مؤسسة الليوان للثقافة والتراث\, United Arab Emirates
CATEGORIES:جلسات الليوان
ORGANIZER;CN="%D9%85%D8%A4%D8%B3%D8%B3%D8%A9 %D8%A7%D9%84%D9%84%D9%8A%D9%88%D8%A7%D9%86 %D9%84%D9%84%D8%AB%D9%82%D8%A7%D9%81%D8%A9 %D9%88%D8%A7%D9%84%D8%AA%D8%B1%D8%A7%D8%AB":MAILTO:info@al-liwan.com
END:VEVENT
BEGIN:VEVENT
DTSTART;TZID=Asia/Dubai:20251025T080000
DTEND;TZID=Asia/Dubai:20251025T170000
DTSTAMP:20260423T025835
CREATED:20250921T135613Z
LAST-MODIFIED:20250925T102507Z
UID:4355-1761379200-1761411600@al-liwan.com
SUMMARY:سلسلة "مسيرة الوفاء: الشيخ طحنون بن محمد آل نهيان
DESCRIPTION:سلسلة جلسات حوارية تسلط الضوء على السيرة الوطنية للشيخ طحنون بن محمد آل نهيان، تستعرض محطات من حياته القيادية من خلال شهادات موثّقة ومجالس حيّة، تُقدَّم برؤية شبابية معاصرة تعزز الهوية والارتباط بالجذور.
URL:https://al-liwan.com/event/%d8%b3%d9%84%d8%b3%d9%84%d8%a9-%d9%85%d8%b3%d9%8a%d8%b1%d8%a9-%d8%a7%d9%84%d9%88%d9%81%d8%a7%d8%a1-%d8%a7%d9%84%d8%b4%d9%8a%d8%ae-%d8%b7%d8%ad%d9%86%d9%88%d9%86-%d8%a8%d9%86-%d9%85%d8%ad%d9%85-3/
LOCATION:مؤسسة الليوان للثقافة والتراث\, United Arab Emirates
CATEGORIES:المبادرات
ORGANIZER;CN="%D9%85%D8%A4%D8%B3%D8%B3%D8%A9 %D8%A7%D9%84%D9%84%D9%8A%D9%88%D8%A7%D9%86 %D9%84%D9%84%D8%AB%D9%82%D8%A7%D9%81%D8%A9 %D9%88%D8%A7%D9%84%D8%AA%D8%B1%D8%A7%D8%AB":MAILTO:info@al-liwan.com
END:VEVENT
BEGIN:VEVENT
DTSTART;TZID=Asia/Dubai:20251022T080000
DTEND;TZID=Asia/Dubai:20251022T170000
DTSTAMP:20260423T025835
CREATED:20250921T135512Z
LAST-MODIFIED:20250921T152441Z
UID:4353-1761120000-1761152400@al-liwan.com
SUMMARY:محاضرة توعوية في الذكاء الاصناعي
DESCRIPTION:مبادرة مجتمعية تنظمها مؤسسة الليوان للثقافة والتراث تستهدف أولياء الأمور، من خلال محاضرة تفاعلية وورشة تطبيقية، تشرح فيها مفاهيم الذكاء الاصطناعي بلغة مبسطة، وتُعرض التحديات التي قد يواجهها الأبناء مثل: الإدمان الرقمي، التوجيه السلوكي، فقدان الخصوصية، والمقارنات النفسية. \n\n\n\nكما تُقدم أدوات عملية للأهل للوقاية والتحكم والمرافقة الرقمية الذكية
URL:https://al-liwan.com/event/%d9%85%d8%ad%d8%a7%d8%b6%d8%b1%d8%a9-%d8%aa%d9%88%d8%b9%d9%88%d9%8a%d8%a9-%d9%81%d9%8a-%d8%a7%d9%84%d8%b0%d9%83%d8%a7%d8%a1-%d8%a7%d9%84%d8%a7%d8%b5%d9%86%d8%a7%d8%b9%d9%8a-4/
LOCATION:مؤسسة الليوان للثقافة والتراث\, United Arab Emirates
CATEGORIES:جلسات الليوان
ORGANIZER;CN="%D9%85%D8%A4%D8%B3%D8%B3%D8%A9 %D8%A7%D9%84%D9%84%D9%8A%D9%88%D8%A7%D9%86 %D9%84%D9%84%D8%AB%D9%82%D8%A7%D9%81%D8%A9 %D9%88%D8%A7%D9%84%D8%AA%D8%B1%D8%A7%D8%AB":MAILTO:info@al-liwan.com
END:VEVENT
BEGIN:VEVENT
DTSTART;TZID=Asia/Dubai:20251021T080000
DTEND;TZID=Asia/Dubai:20251021T170000
DTSTAMP:20260423T025835
CREATED:20250921T135414Z
LAST-MODIFIED:20250921T135415Z
UID:4351-1761033600-1761066000@al-liwan.com
SUMMARY:أثر ( أمثال الواقع المعزز – عبر الاولين في عالم اليوم )
DESCRIPTION:مبادرة ثقافية رقمية مبتكرة، تهدف إلى إعادة إحياء الأمثال الشعبية الإماراتية عبر تقديمها بأسلوب تفاعلي باستخدام تقنية الواقع المعزز (VR). يتولى شباب مبادرة “أثر” تقديم الأمثال بصوتهم وتمثيلها بمشاهد قصيرة، تُربط برمز QR يمكن للجمهور مسحه ومشاهدتها على الهاتف أو الأجهزة الذكية، ما يخلق تجربة تعليمية وترفيهية تعزز الهوية الوطنية وتربط الأجيال بتراثهم من خلال التكنولوجيا.
URL:https://al-liwan.com/event/%d8%a3%d8%ab%d8%b1-%d8%a3%d9%85%d8%ab%d8%a7%d9%84-%d8%a7%d9%84%d9%88%d8%a7%d9%82%d8%b9-%d8%a7%d9%84%d9%85%d8%b9%d8%b2%d8%b2-%d8%b9%d8%a8%d8%b1-%d8%a7%d9%84%d8%a7%d9%88%d9%84%d9%8a%d9%86/
LOCATION:مؤسسة الليوان للثقافة والتراث\, United Arab Emirates
CATEGORIES:المبادرات
ORGANIZER;CN="%D9%85%D8%A4%D8%B3%D8%B3%D8%A9 %D8%A7%D9%84%D9%84%D9%8A%D9%88%D8%A7%D9%86 %D9%84%D9%84%D8%AB%D9%82%D8%A7%D9%81%D8%A9 %D9%88%D8%A7%D9%84%D8%AA%D8%B1%D8%A7%D8%AB":MAILTO:info@al-liwan.com
END:VEVENT
BEGIN:VEVENT
DTSTART;TZID=Asia/Dubai:20251011T080000
DTEND;TZID=Asia/Dubai:20251011T170000
DTSTAMP:20260423T025835
CREATED:20250921T135022Z
LAST-MODIFIED:20250925T102523Z
UID:4349-1760169600-1760202000@al-liwan.com
SUMMARY:سلسلة "مسيرة الوفاء: الشيخ طحنون بن محمد آل نهيان
DESCRIPTION:سلسلة جلسات حوارية تسلط الضوء على السيرة الوطنية للشيخ طحنون بن محمد آل نهيان، تستعرض محطات من حياته القيادية من خلال شهادات موثّقة ومجالس حيّة، تُقدَّم برؤية شبابية معاصرة تعزز الهوية والارتباط بالجذور.
URL:https://al-liwan.com/event/%d8%b3%d9%84%d8%b3%d9%84%d8%a9-%d9%85%d8%b3%d9%8a%d8%b1%d8%a9-%d8%a7%d9%84%d9%88%d9%81%d8%a7%d8%a1-%d8%a7%d9%84%d8%b4%d9%8a%d8%ae-%d8%b7%d8%ad%d9%86%d9%88%d9%86-%d8%a8%d9%86-%d9%85%d8%ad%d9%85-2/
LOCATION:مؤسسة الليوان للثقافة والتراث\, United Arab Emirates
CATEGORIES:المبادرات
ORGANIZER;CN="%D9%85%D8%A4%D8%B3%D8%B3%D8%A9 %D8%A7%D9%84%D9%84%D9%8A%D9%88%D8%A7%D9%86 %D9%84%D9%84%D8%AB%D9%82%D8%A7%D9%81%D8%A9 %D9%88%D8%A7%D9%84%D8%AA%D8%B1%D8%A7%D8%AB":MAILTO:info@al-liwan.com
END:VEVENT
BEGIN:VEVENT
DTSTART;TZID=Asia/Dubai:20251011T080000
DTEND;TZID=Asia/Dubai:20251011T170000
DTSTAMP:20260423T025835
CREATED:20250921T134810Z
LAST-MODIFIED:20250921T134821Z
UID:4347-1760169600-1760202000@al-liwan.com
SUMMARY:طول لوحة جدارية فنية
DESCRIPTION:
URL:https://al-liwan.com/event/%d8%b7%d9%88%d9%84-%d9%84%d9%88%d8%ad%d8%a9-%d8%ac%d8%af%d8%a7%d8%b1%d9%8a%d8%a9-%d9%81%d9%86%d9%8a%d8%a9/
LOCATION:مؤسسة الليوان للثقافة والتراث\, United Arab Emirates
CATEGORIES:المبادرات
ORGANIZER;CN="%D9%85%D8%A4%D8%B3%D8%B3%D8%A9 %D8%A7%D9%84%D9%84%D9%8A%D9%88%D8%A7%D9%86 %D9%84%D9%84%D8%AB%D9%82%D8%A7%D9%81%D8%A9 %D9%88%D8%A7%D9%84%D8%AA%D8%B1%D8%A7%D8%AB":MAILTO:info@al-liwan.com
END:VEVENT
END:VCALENDAR